BEGIN:VCALENDAR
VERSION:2.0
PRODID:spatie/icalendar-generator
BEGIN:VTIMEZONE
TZID:UTC
BEGIN:STANDARD
DTSTART:20250726T011301
TZOFFSETFROM:+0000
TZOFFSETTO:+0000
END:STANDARD
END:VTIMEZONE
BEGIN:VEVENT
UID:69e8209d4c4e7
DTSTAMP:20260422T011301Z
SUMMARY:ABBA Unforgettable - A Tribute to ABBA
DTSTART:20261028T190000Z
DTEND:20261028T190000Z
END:VEVENT
END:VCALENDAR