BEGIN:VCALENDAR
VERSION:2.0
PRODID:spatie/icalendar-generator
BEGIN:VTIMEZONE
TZID:UTC
BEGIN:STANDARD
DTSTART:20250726T125410
TZOFFSETFROM:+0000
TZOFFSETTO:+0000
END:STANDARD
END:VTIMEZONE
BEGIN:VEVENT
UID:69e8c4f2c7a50
DTSTAMP:20260422T125410Z
SUMMARY:DIE 2 BEIDEN - Bodo Bach & Johannes Scherer
DTSTART:20260531T160000Z
DTEND:20260531T160000Z
END:VEVENT
END:VCALENDAR