BEGIN:VCALENDAR
VERSION:2.0
PRODID:spatie/icalendar-generator
BEGIN:VTIMEZONE
TZID:UTC
BEGIN:STANDARD
DTSTART:20250727T034205
TZOFFSETFROM:+0000
TZOFFSETTO:+0000
END:STANDARD
END:VTIMEZONE
BEGIN:VEVENT
UID:69e9950d7f934
DTSTAMP:20260423T034205Z
SUMMARY:Königin - Musical für eine Dragqueen
DTSTART:20260530T180000Z
DTEND:20260530T180000Z
END:VEVENT
END:VCALENDAR