BEGIN:VCALENDAR
VERSION:2.0
PRODID:spatie/icalendar-generator
BEGIN:VTIMEZONE
TZID:UTC
BEGIN:STANDARD
DTSTART:20250727T022200
TZOFFSETFROM:+0000
TZOFFSETTO:+0000
END:STANDARD
END:VTIMEZONE
BEGIN:VEVENT
UID:69e98248e3f23
DTSTAMP:20260423T022200Z
SUMMARY:Königin - Musical für eine Dragqueen
DTSTART:20260529T180000Z
DTEND:20260529T180000Z
END:VEVENT
END:VCALENDAR