BEGIN:VCALENDAR
VERSION:2.0
PRODID:spatie/icalendar-generator
BEGIN:VTIMEZONE
TZID:UTC
BEGIN:STANDARD
DTSTART:20250729T122033
TZOFFSETFROM:+0000
TZOFFSETTO:+0000
END:STANDARD
END:VTIMEZONE
BEGIN:VEVENT
UID:69ecb1918b0f8
DTSTAMP:20260425T122033Z
SUMMARY:Sebastian Lehmann - Kleinere Katastrophen
DTSTART:20261119T190000Z
DTEND:20261119T190000Z
END:VEVENT
END:VCALENDAR