BEGIN:VCALENDAR
VERSION:2.0
PRODID:spatie/icalendar-generator
BEGIN:VTIMEZONE
TZID:UTC
BEGIN:STANDARD
DTSTART:20250725T111930
TZOFFSETFROM:+0000
TZOFFSETTO:+0000
END:STANDARD
END:VTIMEZONE
BEGIN:VEVENT
UID:69e75d422c664
DTSTAMP:20260421T111930Z
SUMMARY:Bigband Chambers Concerts: College Jazz Orchestra
DTSTART:20260512T180000Z
DTEND:20260512T180000Z
END:VEVENT
END:VCALENDAR