BEGIN:VCALENDAR
VERSION:2.0
PRODID:spatie/icalendar-generator
BEGIN:VTIMEZONE
TZID:UTC
BEGIN:STANDARD
DTSTART:20250727T105308
TZOFFSETFROM:+0000
TZOFFSETTO:+0000
END:STANDARD
END:VTIMEZONE
BEGIN:VEVENT
UID:69e9fa149eabb
DTSTAMP:20260423T105308Z
SUMMARY:Aber bitte mit Udo! Die Udo Jürgens Hommage mit Friedrich\, Nauwar
 tat\, Scheithe & Nemet
DTSTART:20260628T170000Z
DTEND:20260628T170000Z
END:VEVENT
END:VCALENDAR