BEGIN:VCALENDAR
VERSION:2.0
PRODID:spatie/icalendar-generator
BEGIN:VTIMEZONE
TZID:UTC
BEGIN:STANDARD
DTSTART:20250724T121837
TZOFFSETFROM:+0000
TZOFFSETTO:+0000
END:STANDARD
END:VTIMEZONE
BEGIN:VEVENT
UID:69e6199d7fea1
DTSTAMP:20260420T121837Z
SUMMARY:Helene Bockhorst - Lebefrau - Zusatztermin
DTSTART:20260521T180000Z
DTEND:20260521T180000Z
END:VEVENT
END:VCALENDAR