BEGIN:VCALENDAR
VERSION:2.0
PRODID:spatie/icalendar-generator
BEGIN:VTIMEZONE
TZID:UTC
BEGIN:STANDARD
DTSTART:20250725T043012
TZOFFSETFROM:+0000
TZOFFSETTO:+0000
END:STANDARD
END:VTIMEZONE
BEGIN:VEVENT
UID:69e6fd541e37d
DTSTAMP:20260421T043012Z
SUMMARY:Kaari Upson: Dollhouse - Eine Retrospektive
DTSTART:20260510T080000Z
DTEND:20260510T080000Z
END:VEVENT
END:VCALENDAR