BEGIN:VCALENDAR
VERSION:2.0
PRODID:spatie/icalendar-generator
BEGIN:VTIMEZONE
TZID:UTC
BEGIN:STANDARD
DTSTART:20250725T005330
TZOFFSETFROM:+0000
TZOFFSETTO:+0000
END:STANDARD
END:VTIMEZONE
BEGIN:VEVENT
UID:69e6ca8a384fd
DTSTAMP:20260421T005330Z
SUMMARY:Kaari Upson: Dollhouse - Eine Retrospektive
DTSTART:20260509T080000Z
DTEND:20260509T080000Z
END:VEVENT
END:VCALENDAR