BEGIN:VCALENDAR
VERSION:2.0
PRODID:spatie/icalendar-generator
BEGIN:VTIMEZONE
TZID:UTC
BEGIN:STANDARD
DTSTART:20250725T100610
TZOFFSETFROM:+0000
TZOFFSETTO:+0000
END:STANDARD
END:VTIMEZONE
BEGIN:VEVENT
UID:69e74c12482da
DTSTAMP:20260421T100610Z
SUMMARY:Kaari Upson: Dollhouse - Eine Retrospektive
DTSTART:20260506T080000Z
DTEND:20260506T080000Z
END:VEVENT
END:VCALENDAR