BEGIN:VCALENDAR
VERSION:2.0
PRODID:spatie/icalendar-generator
BEGIN:VTIMEZONE
TZID:UTC
BEGIN:STANDARD
DTSTART:20250724T092632
TZOFFSETFROM:+0000
TZOFFSETTO:+0000
END:STANDARD
END:VTIMEZONE
BEGIN:VEVENT
UID:69e5f148d30f1
DTSTAMP:20260420T092632Z
SUMMARY:Kaari Upson: Dollhouse - Eine Retrospektive
DTSTART:20260505T080000Z
DTEND:20260505T080000Z
END:VEVENT
END:VCALENDAR