BEGIN:VCALENDAR
VERSION:2.0
PRODID:spatie/icalendar-generator
BEGIN:VTIMEZONE
TZID:UTC
BEGIN:STANDARD
DTSTART:20250726T105524
TZOFFSETFROM:+0000
TZOFFSETTO:+0000
END:STANDARD
END:VTIMEZONE
BEGIN:VEVENT
UID:69e8a91c0ed8d
DTSTAMP:20260422T105524Z
SUMMARY:MusikWelten
DTSTART:20260602T080000Z
DTEND:20260602T080000Z
END:VEVENT
END:VCALENDAR