BEGIN:VCALENDAR
VERSION:2.0
PRODID:spatie/icalendar-generator
BEGIN:VTIMEZONE
TZID:UTC
BEGIN:STANDARD
DTSTART:20250724T161153
TZOFFSETFROM:+0000
TZOFFSETTO:+0000
END:STANDARD
END:VTIMEZONE
BEGIN:VEVENT
UID:69e6504987719
DTSTAMP:20260420T161153Z
SUMMARY:Ägypten - Land der Unsterblichkeit
DTSTART:20260718T080000Z
DTEND:20260718T080000Z
END:VEVENT
END:VCALENDAR