BEGIN:VCALENDAR
VERSION:2.0
PRODID:spatie/icalendar-generator
BEGIN:VTIMEZONE
TZID:UTC
BEGIN:STANDARD
DTSTART:20250727T170611
TZOFFSETFROM:+0000
TZOFFSETTO:+0000
END:STANDARD
END:VTIMEZONE
BEGIN:VEVENT
UID:69ea51839d8d6
DTSTAMP:20260423T170611Z
SUMMARY:Ägypten - Land der Unsterblichkeit
DTSTART:20260708T080000Z
DTEND:20260708T080000Z
END:VEVENT
END:VCALENDAR