BEGIN:VCALENDAR
VERSION:2.0
PRODID:spatie/icalendar-generator
BEGIN:VTIMEZONE
TZID:UTC
BEGIN:STANDARD
DTSTART:20250724T161319
TZOFFSETFROM:+0000
TZOFFSETTO:+0000
END:STANDARD
END:VTIMEZONE
BEGIN:VEVENT
UID:69e6509f427cd
DTSTAMP:20260420T161319Z
SUMMARY:Ägypten - Land der Unsterblichkeit
DTSTART:20260703T080000Z
DTEND:20260703T080000Z
END:VEVENT
END:VCALENDAR