BEGIN:VCALENDAR
VERSION:2.0
PRODID:spatie/icalendar-generator
BEGIN:VTIMEZONE
TZID:UTC
BEGIN:STANDARD
DTSTART:20250724T121906
TZOFFSETFROM:+0000
TZOFFSETTO:+0000
END:STANDARD
END:VTIMEZONE
BEGIN:VEVENT
UID:69e619ba31f1e
DTSTAMP:20260420T121906Z
SUMMARY:Roger Stein - Ist es nicht schön hier
DTSTART:20270130T190000Z
DTEND:20270130T190000Z
END:VEVENT
END:VCALENDAR