BEGIN:VCALENDAR
VERSION:2.0
PRODID:spatie/icalendar-generator
BEGIN:VTIMEZONE
TZID:UTC
BEGIN:STANDARD
DTSTART:20250726T011117
TZOFFSETFROM:+0000
TZOFFSETTO:+0000
END:STANDARD
END:VTIMEZONE
BEGIN:VEVENT
UID:69e8203577058
DTSTAMP:20260422T011117Z
SUMMARY:Let's Dance - Die Live-Tour
DTSTART:20261125T183000Z
DTEND:20261125T183000Z
END:VEVENT
END:VCALENDAR