BEGIN:VCALENDAR
VERSION:2.0
PRODID:spatie/icalendar-generator
BEGIN:VTIMEZONE
TZID:UTC
BEGIN:STANDARD
DTSTART:20250727T062903
TZOFFSETFROM:+0000
TZOFFSETTO:+0000
END:STANDARD
END:VTIMEZONE
BEGIN:VEVENT
UID:69e9bc2f50bb9
DTSTAMP:20260423T062903Z
SUMMARY:Vanessa Maurischat - Amor & Psycho 2.0 | Vorpremiere
DTSTART:20261018T150000Z
DTEND:20261018T150000Z
END:VEVENT
END:VCALENDAR