BEGIN:VCALENDAR
VERSION:2.0
PRODID:spatie/icalendar-generator
BEGIN:VTIMEZONE
TZID:UTC
BEGIN:STANDARD
DTSTART:20250725T082207
TZOFFSETFROM:+0000
TZOFFSETTO:+0000
END:STANDARD
END:VTIMEZONE
BEGIN:VEVENT
UID:69e733af337fb
DTSTAMP:20260421T082207Z
SUMMARY:Arnulf Rating - Jahrespresseschau
DTSTART:20270117T160000Z
DTEND:20270117T160000Z
END:VEVENT
END:VCALENDAR