BEGIN:VCALENDAR
VERSION:2.0
PRODID:spatie/icalendar-generator
BEGIN:VTIMEZONE
TZID:UTC
BEGIN:STANDARD
DTSTART:20250726T111528
TZOFFSETFROM:+0000
TZOFFSETTO:+0000
END:STANDARD
END:VTIMEZONE
BEGIN:VEVENT
UID:69e8add0174d0
DTSTAMP:20260422T111528Z
SUMMARY:Stefan Schöttler - arschvollglück
DTSTART:20261114T190000Z
DTEND:20261114T190000Z
END:VEVENT
END:VCALENDAR