BEGIN:VCALENDAR
VERSION:2.0
PRODID:spatie/icalendar-generator
BEGIN:VTIMEZONE
TZID:UTC
BEGIN:STANDARD
DTSTART:20250728T234105
TZOFFSETFROM:+0000
TZOFFSETTO:+0000
END:STANDARD
END:VTIMEZONE
BEGIN:VEVENT
UID:69ebff912a491
DTSTAMP:20260424T234105Z
SUMMARY:Karrieretag Mannheim
DTSTART:20260624T080000Z
DTEND:20260624T150000Z
END:VEVENT
END:VCALENDAR