BEGIN:VCALENDAR
VERSION:2.0
PRODID:spatie/icalendar-generator
BEGIN:VTIMEZONE
TZID:UTC
BEGIN:STANDARD
DTSTART:20250724T104805
TZOFFSETFROM:+0000
TZOFFSETTO:+0000
END:STANDARD
END:VTIMEZONE
BEGIN:VEVENT
UID:69e60465ac30d
DTSTAMP:20260420T104805Z
SUMMARY:VfR Mannheim - Heimspiel
DTSTART:20260516T133000Z
DTEND:20260516T133000Z
END:VEVENT
END:VCALENDAR