BEGIN:VCALENDAR
VERSION:2.0
PRODID:spatie/icalendar-generator
BEGIN:VTIMEZONE
TZID:UTC
BEGIN:STANDARD
DTSTART:20250724T085731
TZOFFSETFROM:+0000
TZOFFSETTO:+0000
END:STANDARD
END:VTIMEZONE
BEGIN:VEVENT
UID:69e5ea7bd8252
DTSTAMP:20260420T085731Z
SUMMARY:THE GREAT GATSBY PARTY - mit dem Kareol Tanzorchester
DTSTART:20260911T180000Z
DTEND:20260911T180000Z
END:VEVENT
END:VCALENDAR