BEGIN:VCALENDAR
VERSION:2.0
PRODID:spatie/icalendar-generator
BEGIN:VTIMEZONE
TZID:UTC
BEGIN:STANDARD
DTSTART:20250724T060139
TZOFFSETFROM:+0000
TZOFFSETTO:+0000
END:STANDARD
END:VTIMEZONE
BEGIN:VEVENT
UID:69e5c1435778e
DTSTAMP:20260420T060139Z
SUMMARY:Mobile Jugendarbeit Franklin - jeden Mittwoch & Donnerstag!
DTSTART:20261230T230000Z
DTEND:20261230T230000Z
END:VEVENT
END:VCALENDAR