BEGIN:VCALENDAR
VERSION:2.0
PRODID:spatie/icalendar-generator
BEGIN:VTIMEZONE
TZID:UTC
BEGIN:STANDARD
DTSTART:20250726T055217
TZOFFSETFROM:+0000
TZOFFSETTO:+0000
END:STANDARD
END:VTIMEZONE
BEGIN:VEVENT
UID:69e8621172fa9
DTSTAMP:20260422T055217Z
SUMMARY:Guido Fischer - Zu jung für die Kiste
DTSTART:20261121T190000Z
DTEND:20261121T190000Z
END:VEVENT
END:VCALENDAR