BEGIN:VCALENDAR
VERSION:2.0
PRODID:spatie/icalendar-generator
BEGIN:VTIMEZONE
TZID:UTC
BEGIN:STANDARD
DTSTART:20250726T160403
TZOFFSETFROM:+0000
TZOFFSETTO:+0000
END:STANDARD
END:VTIMEZONE
BEGIN:VEVENT
UID:69e8f173885c1
DTSTAMP:20260422T160403Z
SUMMARY:Philipp Leinenbach - Unqualifiziert\, aber sexy
DTSTART:20261107T190000Z
DTEND:20261107T190000Z
END:VEVENT
END:VCALENDAR