BEGIN:VCALENDAR
VERSION:2.0
PRODID:spatie/icalendar-generator
BEGIN:VTIMEZONE
TZID:UTC
BEGIN:STANDARD
DTSTART:20250725T192716
TZOFFSETFROM:+0000
TZOFFSETTO:+0000
END:STANDARD
END:VTIMEZONE
BEGIN:VEVENT
UID:69e7cf943a711
DTSTAMP:20260421T192716Z
SUMMARY:Jan Philipp Zymny - Illegale Straßentherapie
DTSTART:20261204T190000Z
DTEND:20261204T190000Z
END:VEVENT
END:VCALENDAR