BEGIN:VCALENDAR
VERSION:2.0
PRODID:spatie/icalendar-generator
BEGIN:VTIMEZONE
TZID:UTC
BEGIN:STANDARD
DTSTART:20250724T130357
TZOFFSETFROM:+0000
TZOFFSETTO:+0000
END:STANDARD
END:VTIMEZONE
BEGIN:VEVENT
UID:69e6243dc4702
DTSTAMP:20260420T130357Z
SUMMARY:EUGENE CHADBOURNE (USA) feat. SCHROEDER (DE) // LSD Country & Weste
 rn
DTSTART:20260429T180000Z
DTEND:20260429T180000Z
END:VEVENT
END:VCALENDAR