BEGIN:VCALENDAR
VERSION:2.0
PRODID:spatie/icalendar-generator
BEGIN:VTIMEZONE
TZID:UTC
BEGIN:STANDARD
DTSTART:20250725T062620
TZOFFSETFROM:+0000
TZOFFSETTO:+0000
END:STANDARD
END:VTIMEZONE
BEGIN:VEVENT
UID:69e7188cb0621
DTSTAMP:20260421T062620Z
SUMMARY:Eishockey: Deutschland - USA
DTSTART:20260510T150000Z
DTEND:20260510T150000Z
END:VEVENT
END:VCALENDAR