BEGIN:VCALENDAR
VERSION:2.0
PRODID:spatie/icalendar-generator
BEGIN:VTIMEZONE
TZID:UTC
BEGIN:STANDARD
DTSTART:20250724T213910
TZOFFSETFROM:+0000
TZOFFSETTO:+0000
END:STANDARD
END:VTIMEZONE
BEGIN:VEVENT
UID:69e69cfed20c0
DTSTAMP:20260420T213910Z
SUMMARY:Björn von Morgenstern - Kreisverkehrfest
DTSTART:20261213T180000Z
DTEND:20261213T180000Z
END:VEVENT
END:VCALENDAR