BEGIN:VCALENDAR
VERSION:2.0
PRODID:spatie/icalendar-generator
BEGIN:VTIMEZONE
TZID:UTC
BEGIN:STANDARD
DTSTART:20250724T160458
TZOFFSETFROM:+0000
TZOFFSETTO:+0000
END:STANDARD
END:VTIMEZONE
BEGIN:VEVENT
UID:69e64eaad2f30
DTSTAMP:20260420T160458Z
SUMMARY:Caveman - Mit Martin Luding
DTSTART:20261023T180000Z
DTEND:20261023T180000Z
END:VEVENT
END:VCALENDAR