BEGIN:VCALENDAR
VERSION:2.0
PRODID:spatie/icalendar-generator
BEGIN:VTIMEZONE
TZID:UTC
BEGIN:STANDARD
DTSTART:20250725T083221
TZOFFSETFROM:+0000
TZOFFSETTO:+0000
END:STANDARD
END:VTIMEZONE
BEGIN:VEVENT
UID:69e73615197c9
DTSTAMP:20260421T083221Z
SUMMARY:Kirsten Fuchs - Muttermund tut Wahrheit kund
DTSTART:20260519T180000Z
DTEND:20260519T180000Z
END:VEVENT
END:VCALENDAR