BEGIN:VCALENDAR
VERSION:2.0
PRODID:spatie/icalendar-generator
BEGIN:VTIMEZONE
TZID:UTC
BEGIN:STANDARD
DTSTART:20250724T124447
TZOFFSETFROM:+0000
TZOFFSETTO:+0000
END:STANDARD
END:VTIMEZONE
BEGIN:VEVENT
UID:69e61fbf1613e
DTSTAMP:20260420T124447Z
SUMMARY:Cabaret
DTSTART:20260521T180000Z
DTEND:20260521T180000Z
END:VEVENT
END:VCALENDAR