BEGIN:VCALENDAR
VERSION:2.0
PRODID:spatie/icalendar-generator
BEGIN:VTIMEZONE
TZID:UTC
BEGIN:STANDARD
DTSTART:20250725T022009
TZOFFSETFROM:+0000
TZOFFSETTO:+0000
END:STANDARD
END:VTIMEZONE
BEGIN:VEVENT
UID:69e6ded96417e
DTSTAMP:20260421T022009Z
SUMMARY:Nicole Jäger - Grande Dame
DTSTART:20261025T180000Z
DTEND:20261025T180000Z
END:VEVENT
END:VCALENDAR