BEGIN:VCALENDAR
VERSION:2.0
PRODID:spatie/icalendar-generator
BEGIN:VTIMEZONE
TZID:UTC
BEGIN:STANDARD
DTSTART:20250725T090621
TZOFFSETFROM:+0000
TZOFFSETTO:+0000
END:STANDARD
END:VTIMEZONE
BEGIN:VEVENT
UID:69e73e0dc1f48
DTSTAMP:20260421T090621Z
SUMMARY:Dennis Boyette
DTSTART:20261121T190000Z
DTEND:20261121T190000Z
END:VEVENT
END:VCALENDAR