BEGIN:VCALENDAR
VERSION:2.0
PRODID:spatie/icalendar-generator
BEGIN:VTIMEZONE
TZID:UTC
BEGIN:STANDARD
DTSTART:20250724T071838
TZOFFSETFROM:+0000
TZOFFSETTO:+0000
END:STANDARD
END:VTIMEZONE
BEGIN:VEVENT
UID:69e5d34e11385
DTSTAMP:20260420T071838Z
SUMMARY:Britta & Christian Habekost - Elwenfels
DTSTART:20260503T150000Z
DTEND:20260503T150000Z
END:VEVENT
END:VCALENDAR