BEGIN:VCALENDAR
VERSION:2.0
PRODID:spatie/icalendar-generator
BEGIN:VTIMEZONE
TZID:UTC
BEGIN:STANDARD
DTSTART:20250724T231331
TZOFFSETFROM:+0000
TZOFFSETTO:+0000
END:STANDARD
END:VTIMEZONE
BEGIN:VEVENT
UID:69e6b31b89c88
DTSTAMP:20260420T231331Z
SUMMARY:Fischer-Z - 50th Anniversary Tour
DTSTART:20261019T180000Z
DTEND:20261019T180000Z
END:VEVENT
END:VCALENDAR