BEGIN:VCALENDAR
VERSION:2.0
PRODID:spatie/icalendar-generator
BEGIN:VTIMEZONE
TZID:UTC
BEGIN:STANDARD
DTSTART:20250728T021054
TZOFFSETFROM:+0000
TZOFFSETTO:+0000
END:STANDARD
END:VTIMEZONE
BEGIN:VEVENT
UID:69ead12e128d5
DTSTAMP:20260424T021054Z
SUMMARY:Exklusiv: Rendezvous mit Pinguin!
DTSTART:20260729T084500Z
DTEND:20261216T103000Z
END:VEVENT
END:VCALENDAR