BEGIN:VCALENDAR
VERSION:2.0
PRODID:spatie/icalendar-generator
BEGIN:VTIMEZONE
TZID:UTC
BEGIN:STANDARD
DTSTART:20250724T114655
TZOFFSETFROM:+0000
TZOFFSETTO:+0000
END:STANDARD
END:VTIMEZONE
BEGIN:VEVENT
UID:69e6122f2339a
DTSTAMP:20260420T114655Z
SUMMARY:Eure Mütter - Perlen vor die Säue - Das Best of zum Jubiläum
DTSTART:20261211T190000Z
DTEND:20261211T190000Z
END:VEVENT
END:VCALENDAR