BEGIN:VCALENDAR
VERSION:2.0
PRODID:spatie/icalendar-generator
BEGIN:VTIMEZONE
TZID:UTC
BEGIN:STANDARD
DTSTART:20250726T172554
TZOFFSETFROM:+0000
TZOFFSETTO:+0000
END:STANDARD
END:VTIMEZONE
BEGIN:VEVENT
UID:69e904a205a87
DTSTAMP:20260422T172554Z
SUMMARY:Vernissage Andi Fischer \"Ta Ta ER LÜGT\"
DTSTART:20260607T150000Z
DTEND:20260607T150000Z
END:VEVENT
END:VCALENDAR