BEGIN:VCALENDAR
VERSION:2.0
PRODID:spatie/icalendar-generator
BEGIN:VTIMEZONE
TZID:UTC
BEGIN:STANDARD
DTSTART:20250729T155012
TZOFFSETFROM:+0000
TZOFFSETTO:+0000
END:STANDARD
END:VTIMEZONE
BEGIN:VEVENT
UID:69ece2b4e1d0b
DTSTAMP:20260425T155012Z
SUMMARY:Margaret Courtney-Clarke: Geographies of Drought
DTSTART:20260705T080000Z
DTEND:20260705T080000Z
END:VEVENT
END:VCALENDAR