BEGIN:VCALENDAR
VERSION:2.0
PRODID:spatie/icalendar-generator
BEGIN:VTIMEZONE
TZID:UTC
BEGIN:STANDARD
DTSTART:20250727T072656
TZOFFSETFROM:+0000
TZOFFSETTO:+0000
END:STANDARD
END:VTIMEZONE
BEGIN:VEVENT
UID:69e9c9c046cac
DTSTAMP:20260423T072656Z
SUMMARY:Margaret Courtney-Clarke: Geographies of Drought
DTSTART:20260625T080000Z
DTEND:20260625T080000Z
END:VEVENT
END:VCALENDAR