BEGIN:VCALENDAR
VERSION:2.0
PRODID:spatie/icalendar-generator
BEGIN:VTIMEZONE
TZID:UTC
BEGIN:STANDARD
DTSTART:20250724T085732
TZOFFSETFROM:+0000
TZOFFSETTO:+0000
END:STANDARD
END:VTIMEZONE
BEGIN:VEVENT
UID:69e5ea7c39e21
DTSTAMP:20260420T085732Z
SUMMARY:Margaret Courtney-Clarke: Geographies of Drought
DTSTART:20260606T080000Z
DTEND:20260606T080000Z
END:VEVENT
END:VCALENDAR