BEGIN:VCALENDAR
VERSION:2.0
PRODID:spatie/icalendar-generator
BEGIN:VTIMEZONE
TZID:UTC
BEGIN:STANDARD
DTSTART:20250726T125252
TZOFFSETFROM:+0000
TZOFFSETTO:+0000
END:STANDARD
END:VTIMEZONE
BEGIN:VEVENT
UID:69e8c4a4c724c
DTSTAMP:20260422T125252Z
SUMMARY:Margaret Courtney-Clarke: Geographies of Drought
DTSTART:20260531T080000Z
DTEND:20260531T080000Z
END:VEVENT
END:VCALENDAR