BEGIN:VCALENDAR
VERSION:2.0
PRODID:spatie/icalendar-generator
BEGIN:VTIMEZONE
TZID:UTC
BEGIN:STANDARD
DTSTART:20250726T132433
TZOFFSETFROM:+0000
TZOFFSETTO:+0000
END:STANDARD
END:VTIMEZONE
BEGIN:VEVENT
UID:69e8cc11cbe24
DTSTAMP:20260422T132433Z
SUMMARY:Margaret Courtney-Clarke: Geographies of Drought
DTSTART:20260523T080000Z
DTEND:20260523T080000Z
END:VEVENT
END:VCALENDAR