BEGIN:VCALENDAR
VERSION:2.0
PRODID:spatie/icalendar-generator
BEGIN:VTIMEZONE
TZID:UTC
BEGIN:STANDARD
DTSTART:20250726T011118
TZOFFSETFROM:+0000
TZOFFSETTO:+0000
END:STANDARD
END:VTIMEZONE
BEGIN:VEVENT
UID:69e8203604db3
DTSTAMP:20260422T011118Z
SUMMARY:Margaret Courtney-Clarke: Geographies of Drought
DTSTART:20260522T080000Z
DTEND:20260522T080000Z
END:VEVENT
END:VCALENDAR