BEGIN:VCALENDAR
VERSION:2.0
PRODID:spatie/icalendar-generator
BEGIN:VTIMEZONE
TZID:UTC
BEGIN:STANDARD
DTSTART:20250725T232334
TZOFFSETFROM:+0000
TZOFFSETTO:+0000
END:STANDARD
END:VTIMEZONE
BEGIN:VEVENT
UID:69e806f6828e1
DTSTAMP:20260421T232334Z
SUMMARY:Margaret Courtney-Clarke: Geographies of Drought
DTSTART:20260521T080000Z
DTEND:20260521T080000Z
END:VEVENT
END:VCALENDAR