BEGIN:VCALENDAR
VERSION:2.0
PRODID:spatie/icalendar-generator
BEGIN:VTIMEZONE
TZID:UTC
BEGIN:STANDARD
DTSTART:20250725T194452
TZOFFSETFROM:+0000
TZOFFSETTO:+0000
END:STANDARD
END:VTIMEZONE
BEGIN:VEVENT
UID:69e7d3b45ac75
DTSTAMP:20260421T194452Z
SUMMARY:Margaret Courtney-Clarke: Geographies of Drought
DTSTART:20260519T080000Z
DTEND:20260519T080000Z
END:VEVENT
END:VCALENDAR