BEGIN:VCALENDAR
VERSION:2.0
PRODID:spatie/icalendar-generator
BEGIN:VTIMEZONE
TZID:UTC
BEGIN:STANDARD
DTSTART:20250725T110743
TZOFFSETFROM:+0000
TZOFFSETTO:+0000
END:STANDARD
END:VTIMEZONE
BEGIN:VEVENT
UID:69e75a7faeb1c
DTSTAMP:20260421T110743Z
SUMMARY:Margaret Courtney-Clarke: Geographies of Drought
DTSTART:20260513T080000Z
DTEND:20260513T080000Z
END:VEVENT
END:VCALENDAR